BEGIN:VCALENDAR
VERSION:2.0
PRODID:-//Department Of Education//9abc13a2-96ab-4dc8-a335-1e6d0f6c4b89
BEGIN:VTIMEZONE
TZID:Australia/Sydney
TZURL:http://tzurl.org/zoneinfo-outlook/Australia/Sydney
X-LIC-LOCATION:Australia/Sydney
BEGIN:STANDARD
TZOFFSETFROM:+1100
TZOFFSETTO:+1000
TZNAME:AEST
DTSTART:19700405T030000
RRULE:FREQ=YEARLY;BYMONTH=4;BYDAY=1SU
END:STANDARD
BEGIN:DAYLIGHT
TZOFFSETFROM:+1000
TZOFFSETTO:+1100
TZNAME:AEDT
DTSTART:19701004T020000
RRULE:FREQ=YEARLY;BYMONTH=10;BYDAY=1SU
END:DAYLIGHT
END:VTIMEZONE
CALSCALE:GREGORIAN
X-WR-TIMEZONE:Australia/Sydney
BEGIN:VEVENT
DTSTART;VALUE=DATE:20200402
DTEND;VALUE=DATE:20200403
DTSTAMP:20200402T000000Z
UID:91fd5a59-176e-4f9b-a6ac-8793b4ad6e8f
LOCATION:Gunnedah Town Hall
SUMMARY;LANGUAGE=en-us:Youth Expo
SEQUENCE:0
DESCRIPTION:The annual Gunnedah Youth Expo is a FREE event aimed at providing 12-25 year olds and their families an opportunity to access local and state services that can support their wellbeing and life path.
END:VEVENT
TRANSP:TRANSPARENT
END:VCALENDAR
